BEGIN:VCALENDAR
VERSION:2.0
CALSCALE:GREGORIAN
PRODID:adamgibbons/ics
METHOD:PUBLISH
X-PUBLISHED-TTL:PT1H
BEGIN:VEVENT
UID:216@abq.bikecal.org
SUMMARY:Family Bike Fiesta
DTSTAMP:20260423T233700Z
DTSTART:20260502T160000Z
DTEND:20260502T200000Z
URL:https://abq.bikecal.org/event/family-bike-fiesta
LOCATION:Esperanza - McKinley - 3333 Truman St NE
STATUS:CONFIRMED
CATEGORIES:bike fun,family,fiesta,fun,kidical mass
END:VEVENT
END:VCALENDAR
